BEGIN:VCALENDAR
VERSION:2.0
PRODID:-//eventon.com NONSGML v1.0//EN
CALSCALE:GREGORIAN
METHOD:PUBLISH
BEGIN:VEVENT
UID:69ea7e0cb2f9e
DTSTAMP:20260423T201612Z
DTSTART:20221020T140000Z
DTEND:20221020T174500Z
LOCATION:Câmara de Conciliação\,  Mediação e Arbitragem Ciesp/Fiesp Av. Paulista 1313\,  15° andar (Espaço Executivo)
SUMMARY:II Quinn Emanuel Arbitration Talks: Shareholders Disputes & Arbitration
DESCRIPTION:Opening: Lilian Bertolani (Ciesp) (2:00pm-2:10pm) Panel 1 (2:10
 pm-3:45pm): Shareholders’ Agreements &amp; Arbitration Moderator: Pedro M
 achado (Ciesp) Speaker 1: David Orta (Quinn Emanuel) (2:10pm-2:30pm) Speake
 r 2: Mariana Conti Craveiro (ContiCraveiro Advogados) (2:30pm-2:50pm) Speak
 er 3: Eduardo Munhoz (E. Munhoz) (2:50pm-3:10pm) Speaker 4: Gabriel Seijo (
 Cescon) (3:10pm-3:30pm) Q&amp;A: (3:30pm-3:45pm) Coffee Break (3:45pm-4:00p
 m) Panel[..]\nhttps://www.sparbitrationweek.com.br/events/ii-quinn-emanuel-
 arbitration-talks-shareholders-disputes-arbitration/
URL:https://www.sparbitrationweek.com.br/events/ii-quinn-emanuel-arbitration-talks-shareholders-disputes-arbitration/
END:VEVENT
END:VCALENDAR